BEGIN:VCALENDAR
BEGIN:VEVENT
SUMMARY:Anna Sperber\, #3/4 [nycnoise]
DTSTART:20250509T230000Z
DTEND:20250510T000000Z
UID:ece534db-9c6a-485a-bb3a-f3ae28cad3d3
CREATED:20260420T145332Z
DESCRIPTION:music by Lea Bertucci
LOCATION:chocolate factory theater (38-33 24th st.\, long island city)
END:VEVENT
END:VCALENDAR
