BEGIN:VCALENDAR
BEGIN:VEVENT
SUMMARY:Anna Sperber\, #4/4 [nycnoise]
DTSTART:20250510T230000Z
DTEND:20250511T000000Z
UID:9cb7b608-b683-490a-8e47-43f856f72d89
CREATED:20260420T145502Z
DESCRIPTION:music by Lea Bertucci
LOCATION:chocolate factory theater (38-33 24th st.\, long island city)
END:VEVENT
END:VCALENDAR
