BEGIN:VCALENDAR
BEGIN:VEVENT
SUMMARY:Chloe Alexandra Thompson + DB Amorin: 'SHINE: tending the glow\,' 
 Night #1/3 [nycnoise]
DTSTART:20250529T230000Z
DTEND:20250530T000000Z
UID:f24fc88f-4e3f-438c-85d5-54a15ad8b201
CREATED:20260420T145501Z
DESCRIPTION:
LOCATION:chocolate factory theater (38-33 24th st.\, long island city)
END:VEVENT
END:VCALENDAR
