BEGIN:VCALENDAR
BEGIN:VEVENT
SUMMARY:Long Play: $50+ [nycnoise]
DTSTART:20250503T000000Z
DTEND:20250503T010000Z
UID:22ce3587-d718-492d-afdb-6583e70359de
CREATED:20260420T145244Z
DESCRIPTION:Kim Gordon\, I.U.D.\, Kassie Krut\; 7pm doors\; full fest
LOCATION:pioneer works (159 pioneer st.\, brooklyn)
END:VEVENT
END:VCALENDAR
