BEGIN:VCALENDAR
BEGIN:VEVENT
SUMMARY:piano+: Stepančić.Gidron + LCollective [nycnoise]
DTSTART:20250601T200000Z
DTEND:20250601T210000Z
UID:4e7861a5-c14d-49e9-b8aa-7a9d285ab34f
CREATED:20260420T145502Z
DESCRIPTION:
LOCATION:spectrum at bwac (481 van brunt st.\, brooklyn)
END:VEVENT
END:VCALENDAR
