BEGIN:VCALENDAR
BEGIN:VEVENT
SUMMARY:Movement Research: Tina Bararian\, Ogemdi Ude\, Maima The Water Sp
 irit [nycnoise]
DTSTART:20250407T230000Z
DTEND:20250408T000000Z
UID:09e3b114-6e00-40f8-a5a5-58bb40a513dd
CREATED:20260420T145322Z
DESCRIPTION:
LOCATION:movement research at judson (55 washington sq south\, manhattan)
END:VEVENT
END:VCALENDAR
