BEGIN:VCALENDAR
BEGIN:VEVENT
SUMMARY:Movement Research: Enya Kalia Creations\, RACHEL:dancers\, Sacha V
 ega [nycnoise]
DTSTART:20250428T230000Z
DTEND:20250429T000000Z
UID:41d0d559-8e79-481d-ba42-e95c3d70d49e
CREATED:20260420T145320Z
DESCRIPTION:
LOCATION:movement research at judson (55 washington sq south\, manhattan)
END:VEVENT
END:VCALENDAR
