BEGIN:VCALENDAR
BEGIN:VEVENT
SUMMARY:Movement Research: Kiera Bono\, Stephanie García | Punto de Infle
 xión\, Leslie Parker [nycnoise]
DTSTART:20250505T230000Z
DTEND:20250506T000000Z
UID:70aa99c5-8805-4bd5-b280-1a64666f7601
CREATED:20260420T145500Z
DESCRIPTION:
LOCATION:movement research at judson (55 washington sq south\, manhattan)
END:VEVENT
END:VCALENDAR
