BEGIN:VCALENDAR
BEGIN:VEVENT
SUMMARY:Chris Zabriskie (Album Release)\, Dolphin Uppercut Avenger\, Jenn 
 Grossman [nycnoise]
DTSTART:20250405T000000Z
DTEND:20250405T010000Z
UID:1168b745-ce43-4283-8e6c-690befb935d5
CREATED:20260420T145335Z
DESCRIPTION:"an evening of electronic music &amp\; analog visuals"
LOCATION:wonderville (1186 broadway\, brooklyn)
END:VEVENT
END:VCALENDAR
