BEGIN:VCALENDAR
BEGIN:VEVENT
SUMMARY:Uptown Out: Mary Cherney / Tony Romano / Sylvain Leroux\, Claire d
 e Brunner / Stephanie Griffin / Matt Lambiase / Hilliard Greene / Will Gla
 ss [nycnoise]
DTSTART:20250508T230000Z
DTEND:20250509T000000Z
UID:7c1a05bc-2f1e-42cf-b8e7-c467438157db
CREATED:20260420T145206Z
DESCRIPTION:
LOCATION:recirculation (876 Riverside Dr\, New York\, NY 10032)
END:VEVENT
END:VCALENDAR
