BEGIN:VCALENDAR
BEGIN:VEVENT
SUMMARY:Darksmith\, Thomas DeAngelo\, Duncan Harrison\, S*Glass\, Shots [n
 ycnoise]
DTSTART:20250502T230000Z
DTEND:20250503T000000Z
UID:b306aa46-5325-44ae-88ec-0be87ecc9a19
CREATED:20260420T145329Z
DESCRIPTION:🇵🇸 PACBI
LOCATION:kaleidoscope [RIP]
END:VEVENT
END:VCALENDAR
