BEGIN:VCALENDAR
BEGIN:VEVENT
SUMMARY:Newfound Interest in Connecticut\, Sinema\, Foxtails\, Push Ups\, 
 Cash Only Tony's\, Holidays in United States [nycnoise]
DTSTART:20250411T230000Z
DTEND:20250412T000000Z
UID:103a26b5-30fc-42b6-8b85-b6ebbc909b7a
CREATED:20260420T145320Z
DESCRIPTION:6:30pm doors
LOCATION:market hotel (1140 myrtle ave\, brooklyn)
END:VEVENT
END:VCALENDAR
