BEGIN:VCALENDAR
BEGIN:VEVENT
SUMMARY:Lary 7 [nycnoise]
DTSTART:20250501T233000Z
DTEND:20250502T003000Z
UID:d7a052cd-17c0-4c19-9949-a12a9eb12644
CREATED:20260420T145337Z
DESCRIPTION:7pm doors
LOCATION:blank forms (1d) (468 grand ave #1d\, brooklyn)
END:VEVENT
END:VCALENDAR
