BEGIN:VCALENDAR
BEGIN:VEVENT
SUMMARY:Ofir Ganon (Album Release)\, Jackie West\, DINS [nycnoise]
DTSTART:20250409T230000Z
DTEND:20250410T000000Z
UID:89b194e0-7317-43d2-bc05-1fff574e6b1e
CREATED:20260420T145253Z
DESCRIPTION:
LOCATION:sultan room (234 starr st.\, brooklyn)
END:VEVENT
END:VCALENDAR
