BEGIN:VCALENDAR
BEGIN:VEVENT
SUMMARY:Laura Ortman\, Victoria Keddie\, MV Carbon [nycnoise]
DTSTART:20250404T000000Z
DTEND:20250404T010000Z
UID:f6b4be7e-39a9-4b47-adce-e9dbcd4243c7
CREATED:20260420T145252Z
DESCRIPTION:7:30pm doors
LOCATION:baker falls (192 Allen St\, New York\, NY 10002)
END:VEVENT
END:VCALENDAR
