BEGIN:VCALENDAR
BEGIN:VEVENT
SUMMARY:Fire Man\, Loolowningen\, Dollar Tree [nycnoise]
DTSTART:20250426T233000Z
DTEND:20250427T003000Z
UID:4dc25d99-29f4-4247-be4e-7f5a775effba
CREATED:20260420T145245Z
DESCRIPTION:
LOCATION:gold sounds (44 wilson ave\, brooklyn)
END:VEVENT
END:VCALENDAR
