BEGIN:VCALENDAR
BEGIN:VEVENT
SUMMARY:Flatwounds\, Don Pardo\, Ludoh\, Secret [nycnoise]
DTSTART:20250427T233000Z
DTEND:20250428T003000Z
UID:dc2eb368-a6a9-4074-96e3-3674296528e8
CREATED:20260420T145346Z
DESCRIPTION:
LOCATION:gold sounds (44 wilson ave\, brooklyn)
END:VEVENT
END:VCALENDAR
