BEGIN:VCALENDAR
BEGIN:VEVENT
SUMMARY:Still House Plants\, Anysia Kim [nycnoise]
DTSTART:20250403T230000Z
DTEND:20250404T000000Z
UID:5068356b-b0bc-4567-83e1-cafb073bd6a4
CREATED:20260420T145248Z
DESCRIPTION:
LOCATION:elsewhere zone one (599 johnson ave\, brooklyn)
END:VEVENT
END:VCALENDAR
