BEGIN:VCALENDAR
BEGIN:VEVENT
SUMMARY:Jeremy Viner (w/ Tim Berne\, Drew Gress\, Kate Gentile) [nycnoise]
DTSTART:20250405T000000Z
DTEND:20250405T010000Z
UID:aff3afad-00aa-4dae-9bc8-5801a932f615
CREATED:20260420T145245Z
DESCRIPTION:
LOCATION:bar bayeux (1066 nostrand ave\, brooklyn)
END:VEVENT
END:VCALENDAR
