BEGIN:VCALENDAR
BEGIN:VEVENT
SUMMARY:Outline: Explosions In The Sky\, múm\, Mabe Fratti\, They Are Gut
 ting a Body of Water\, upsammy\, Diles Que No Me Maten [nycnoise]
DTSTART:20250412T220000Z
DTEND:20250412T230000Z
UID:9fac58e6-36f3-40a5-b2b3-8dc132d9733d
CREATED:20260420T145422Z
DESCRIPTION:
LOCATION:knockdown center (52-19 flushing ave\, maspeth)
END:VEVENT
END:VCALENDAR
