BEGIN:VCALENDAR
BEGIN:VEVENT
SUMMARY:DMG Free Tues: Willy Rodriguez & Hery Paz\, Guillermo Gregorio / I
 van Barenboim / Brandon Lopez\, Chuck Bettis & Ipek Eginli [nycnoise]
DTSTART:20250408T223000Z
DTEND:20250408T233000Z
UID:0f4fb863-b644-41a7-813d-93c40bd6402d
CREATED:20260420T145415Z
DESCRIPTION:
LOCATION:downtown music gallery (13 monroe st.\, manhattan)
END:VEVENT
END:VCALENDAR
