BEGIN:VCALENDAR
BEGIN:VEVENT
SUMMARY:Rave Machine: Lunar Symphony\, Julien the Cyborg\, SENGA\, Stef Oz
 aru [nycnoise]
DTSTART:20250405T030000Z
DTEND:20250405T040000Z
UID:f1a4196f-c35a-485c-940b-42907eb85cd5
CREATED:20260420T145346Z
DESCRIPTION:🇵🇸 PACBI +++ rsvp for free entry before 12:30am *but* on
 ly paid tickets get guaranteed entry\, first-come first-served
LOCATION:purgatory (675 central ave\, brooklyn)
END:VEVENT
END:VCALENDAR
