BEGIN:VCALENDAR
BEGIN:VEVENT
SUMMARY:Sunny Daze & the Weathermen\, BALACLAVA\, Pop Music Fever Dream [n
 ycnoise]
DTSTART:20250410T000000Z
DTEND:20250410T010000Z
UID:16f5454a-ce76-4a8b-824b-bacd2b676d47
CREATED:20260420T145542Z
DESCRIPTION:🇵🇸 PACBI
LOCATION:purgatory (675 central ave\, brooklyn)
END:VEVENT
END:VCALENDAR
