BEGIN:VCALENDAR
BEGIN:VEVENT
SUMMARY:Free Dimensions: Six in a Septet (Luisa Muhr\, Daniel Carter\, Ken
 neth Jimenez\, Abe Mamet\, Sana Nagano\, Alfred Vogel) [nycnoise]
DTSTART:20250403T023000Z
DTEND:20250403T033000Z
UID:70eafc76-7bd1-4506-ae30-755fe0e07be4
CREATED:20260420T145505Z
DESCRIPTION:curated by dave sewelson
LOCATION:nublu classic (62 Loisaida Ave\, New York\, NY 10009)
END:VEVENT
END:VCALENDAR
