BEGIN:VCALENDAR
BEGIN:VEVENT
SUMMARY:Tim Berne Warped Ensemble [nycnoise]
DTSTART:20250412T233000Z
DTEND:20250413T003000Z
UID:c80c1009-348f-44e8-8338-6484805c2be6
CREATED:20260420T145158Z
DESCRIPTION:LIVESTREAM\; Ralph Alessi\, Sean Conly\, Tim Angulo\, Matt Mit
 chell
LOCATION:jazz gallery (1160 broadway (on w. 27th)\, fl.5\, manhattan)
END:VEVENT
END:VCALENDAR
