BEGIN:VCALENDAR
BEGIN:VEVENT
SUMMARY:$85 [nycnoise]
DTSTART:20250530T233000Z
DTEND:20250531T003000Z
UID:200bad1c-eebc-4057-92ac-933029dc3f8f
CREATED:20260420T145555Z
DESCRIPTION:The Trio (Henry Threadgill\, Vijay Iyer\, Dafnis Prieto)
LOCATION:jazz gallery (1160 broadway (on w. 27th)\, fl.5\, manhattan)
END:VEVENT
END:VCALENDAR
