BEGIN:VCALENDAR
BEGIN:VEVENT
SUMMARY:Krallice\, Thaetas\, Satantic Magick [nycnoise]
DTSTART:20250509T000000Z
DTEND:20250509T010000Z
UID:67b802ae-6fe6-47bd-9a1c-749cbd2e8e51
CREATED:20260420T145418Z
DESCRIPTION:7pm doors
LOCATION:broadway (1272 broadway\, brooklyn)
END:VEVENT
END:VCALENDAR
