BEGIN:VCALENDAR
BEGIN:VEVENT
SUMMARY:Girl Pusher\, Kill Alters\, Texas Baby\, Akafae [nycnoise]
DTSTART:20250417T220000Z
DTEND:20250417T230000Z
UID:e5c3ae3e-1ba8-4583-80d2-5b962850c7a3
CREATED:20260420T145507Z
DESCRIPTION:clarifying time asap
LOCATION:xanadu roller arts (262 Starr St\, Brooklyn\, NY 11237)
END:VEVENT
END:VCALENDAR
