BEGIN:VCALENDAR
BEGIN:VEVENT
SUMMARY:Leila Adu Trio (w/ David Frazier\, Spencer Murphy)\, DJ Monk One [
 nycnoise]
DTSTART:20250502T233000Z
DTEND:20250503T003000Z
UID:4a15795c-fc23-4ce1-8ab0-12c393cc2d65
CREATED:20260420T145406Z
DESCRIPTION:🇵🇸 PACBI
LOCATION:record shop (360 van brunt st.\, brooklyn)
END:VEVENT
END:VCALENDAR
