BEGIN:VCALENDAR
BEGIN:VEVENT
SUMMARY:Theremin Showcase + Ambient Post-Rock: Grégoire Blanc\, Tolemn\, 
 & more [nycnoise]
DTSTART:20250412T230000Z
DTEND:20250413T000000Z
UID:4ce350cf-e00d-4ff2-8fdf-d1cd5608bc8a
CREATED:20260420T145546Z
DESCRIPTION:flyer
LOCATION:prime produce (424 w. 54th st. (btwn 9th & 10th aves)\, hell's ki
 tchen\, mnhtn)
END:VEVENT
END:VCALENDAR
