BEGIN:VCALENDAR
BEGIN:VEVENT
SUMMARY:Fred Moten & Brandon Lopez present The Church of St. PIT [nycnoise
 ]
DTSTART:20250406T220000Z
DTEND:20250406T230000Z
UID:2fb2ac61-e676-469d-9ec8-d49e57df8b97
CREATED:20260420T145449Z
DESCRIPTION:🇵🇸 PACBI
LOCATION:p.i.t. (property is theft) (411 s. 5th st.\, brooklyn)
END:VEVENT
END:VCALENDAR
