BEGIN:VCALENDAR
BEGIN:VEVENT
SUMMARY:Gían Pérez / Brandon Lopez / Nick Neuberg\, Sam Newsome [nycnois
 e]
DTSTART:20250411T220000Z
DTEND:20250411T230000Z
UID:9ed94a2d-17fe-4c03-afab-8cbb350180b3
CREATED:20260420T145409Z
DESCRIPTION:🇵🇸 PACBI
LOCATION:p.i.t. (property is theft) (411 s. 5th st.\, brooklyn)
END:VEVENT
END:VCALENDAR
