BEGIN:VCALENDAR
BEGIN:VEVENT
SUMMARY:Good Grief / Tender Terrain: Akanbi\, Matük\, NTHNL [nycnoise]
DTSTART:20250401T230000Z
DTEND:20250402T000000Z
UID:a5ac7f8a-fcd8-4077-9223-b7866fd72b7d
CREATED:20260420T145451Z
DESCRIPTION:🇵🇸 PACBI +++ 🌀 notaflof work trade
LOCATION:light & sound design
END:VEVENT
END:VCALENDAR
