BEGIN:VCALENDAR
BEGIN:VEVENT
SUMMARY:Sweater On Polo\, Eden Aurelius\, Solpara\, Päascal + Gunnar&Luke
 \, Beat Detectives\, YRZ [nycnoise]
DTSTART:20250412T000000Z
DTEND:20250412T010000Z
UID:33c8cf08-9253-4ea6-a662-40c7929167ab
CREATED:20260420T145537Z
DESCRIPTION:🇵🇸 PACBI +++ 🌀 notaflof work trade
LOCATION:light & sound design
END:VEVENT
END:VCALENDAR
