BEGIN:VCALENDAR
BEGIN:VEVENT
SUMMARY:Fiber: aka-Sol\, Nema Hän\, Fuge [nycnoise]
DTSTART:20250412T220000Z
DTEND:20250412T230000Z
UID:0370a6d9-aeae-411b-bae0-921558fe0f44
CREATED:20260420T145452Z
DESCRIPTION:🇵🇸 PACBI +++&nbsp\;🌀 notaflof work trade
LOCATION:light & sound design
END:VEVENT
END:VCALENDAR
