BEGIN:VCALENDAR
BEGIN:VEVENT
SUMMARY:PLEASE Y.S.: Ayumi Ishito / Daniel Carter / Stelios Mihas / Erato 
 T (visuals)\, Brian Wenner\, Karol Konstancia [nycnoise]
DTSTART:20250405T233000Z
DTEND:20250406T003000Z
UID:fbfd4c6c-a6b8-48d2-8686-e73d5d0c3917
CREATED:20260420T145408Z
DESCRIPTION:co-presented by wenner
LOCATION:please y.s.
END:VEVENT
END:VCALENDAR
