BEGIN:VCALENDAR
BEGIN:VEVENT
SUMMARY:Synthicide: Ron Like Hell\, Andi [nycnoise]
DTSTART:20250404T020000Z
DTEND:20250404T030000Z
UID:82eac1fc-88c6-4ac7-b979-1703cb015f06
CREATED:20260420T145551Z
DESCRIPTION:🇵🇸 PACBI
LOCATION:bossa nova civic club (1271 myrtle ave\, brooklyn)
END:VEVENT
END:VCALENDAR
