BEGIN:VCALENDAR
BEGIN:VEVENT
SUMMARY:Body Journey: dj cowriiiie\, FATHERBOP\, Total XTC [nycnoise]
DTSTART:20250406T020000Z
DTEND:20250406T030000Z
UID:002c7d95-6762-410f-a823-fcf3f5453390
CREATED:20260420T145450Z
DESCRIPTION:🇵🇸 PACBI +++ dj cowriiiie aka keiyaA
LOCATION:bossa nova civic club (1271 myrtle ave\, brooklyn)
END:VEVENT
END:VCALENDAR
