BEGIN:VCALENDAR
BEGIN:VEVENT
SUMMARY:Keychain: Guarionex Jr\, DJ Erewhon\, Pressure Assist [nycnoise]
DTSTART:20250409T020000Z
DTEND:20250409T030000Z
UID:fd9d766f-bb77-456d-b893-9b5690455c81
CREATED:20260420T145500Z
DESCRIPTION:🇵🇸 PACBI
LOCATION:bossa nova civic club (1271 myrtle ave\, brooklyn)
END:VEVENT
END:VCALENDAR
