BEGIN:VCALENDAR
BEGIN:VEVENT
SUMMARY:Errant Forms: ASL Princess\, MIRA MIRA\, BLKshine\, Love Higher [n
 ycnoise]
DTSTART:20250414T020000Z
DTEND:20250414T030000Z
UID:7dccd16e-cba7-4cbe-8b32-172c9ddb1d82
CREATED:20260420T145453Z
DESCRIPTION:🇵🇸 PACBI
LOCATION:bossa nova civic club (1271 myrtle ave\, brooklyn)
END:VEVENT
END:VCALENDAR
