BEGIN:VCALENDAR
BEGIN:VEVENT
SUMMARY:UCC Harlo presents Low Intervention: Murmur (Zach Lapidus & Fraser
  Campbell)\, Matthew Walker\, Marble Rye [nycnoise]
DTSTART:20250419T010000Z
DTEND:20250419T020000Z
UID:eccc5569-bc99-4b3f-bc84-de9be8240e23
CREATED:20260420T145348Z
DESCRIPTION:curated by Annie Garlid
LOCATION:dada (6047 Myrtle Ave\, Queens\, NY 11385)
END:VEVENT
END:VCALENDAR
