BEGIN:VCALENDAR
BEGIN:VEVENT
SUMMARY:Five Years of Wet Spot: Debbie Dopamine\, Eevie Echoes & the Locat
 ions\, Max Talay\, Violet Stanza\, Skylar Pocket [nycnoise]
DTSTART:20250531T000000Z
DTEND:20250531T010000Z
UID:3db9265a-4a85-4fc7-8d7e-439bfc7952bb
CREATED:20260420T145609Z
DESCRIPTION:🇵🇸 PACBI&nbsp\;(wet spot) +++ 7pm doors
LOCATION:parkside lounge (317 e. houston st.\, manhattan)
END:VEVENT
END:VCALENDAR
