BEGIN:VCALENDAR
BEGIN:VEVENT
SUMMARY:Roger Clark Miller: Solo Electric Guitar Ensemble [nycnoise]
DTSTART:20250601T000000Z
DTEND:20250601T010000Z
UID:f9f2d6e2-7c3d-43a0-86c6-3159d3e549c5
CREATED:20260420T145555Z
DESCRIPTION:7:30pm doors
LOCATION:francis kite club (40 loisaida ave\, manhattan)
END:VEVENT
END:VCALENDAR
