BEGIN:VCALENDAR
BEGIN:VEVENT
SUMMARY:Browsing\, CGI Jesus\, Ben Hozie [nycnoise]
DTSTART:20250416T000000Z
DTEND:20250416T010000Z
UID:28b71a5d-db72-4c69-96b4-41d043ecea35
CREATED:20260420T145556Z
DESCRIPTION:7:30pm doors
LOCATION:hart bar (538 hart st.\, brooklyn)
END:VEVENT
END:VCALENDAR
