BEGIN:VCALENDAR
BEGIN:VEVENT
SUMMARY:David Haney / Daniel Carter / Adam Lane / Jimmy Bennington [nycnoi
 se]
DTSTART:20250419T000000Z
DTEND:20250419T010000Z
UID:482bf88f-b8c0-48e0-912f-4999194056f4
CREATED:20260420T145449Z
DESCRIPTION:
LOCATION:ibeam (168 7th st.\, brooklyn)
END:VEVENT
END:VCALENDAR
