BEGIN:VCALENDAR
BEGIN:VEVENT
SUMMARY:Free Dimensions: Doug Weiselman / Mara Rosenbloom / Michael Vatche
 r\, LaFrae Sci\, Ka Baird & Chris Williams [nycnoise]
DTSTART:20250423T230000Z
DTEND:20250424T000000Z
UID:ced9e1a0-4b26-42e3-8ed0-95fc42b3df78
CREATED:20260420T145555Z
DESCRIPTION:should be on A4A site asap
LOCATION:nublu classic (62 Loisaida Ave\, New York\, NY 10009)
END:VEVENT
END:VCALENDAR
