BEGIN:VCALENDAR
BEGIN:VEVENT
SUMMARY:Star’s Revenge (single release)\, Genre is Death\, Talli Sow [ny
 cnoise]
DTSTART:20250404T000000Z
DTEND:20250404T010000Z
UID:ab1da99b-281c-4040-8f13-fe5da986fb3d
CREATED:20260420T145553Z
DESCRIPTION:7pm doors
LOCATION:berlin (25 ave a\, manhattan)
END:VEVENT
END:VCALENDAR
