BEGIN:VCALENDAR
BEGIN:VEVENT
SUMMARY:3D.Treut (Aaron Burnett\, Nick Joz\, Dave Treut) [nycnoise]
DTSTART:20250401T223000Z
DTEND:20250401T233000Z
UID:d37c88ca-96be-4139-96ef-17abd2d508e7
CREATED:20260420T145541Z
DESCRIPTION:
LOCATION:ornithology jazz (6 Suydam St\, Brooklyn\, NY 11221)
END:VEVENT
END:VCALENDAR
