BEGIN:VCALENDAR
BEGIN:VEVENT
SUMMARY:Torture & the Desert Spiders Residency [nycnoise]
DTSTART:20250401T233000Z
DTEND:20250402T003000Z
UID:67253018-cccc-4b72-9517-3f623318c27c
CREATED:20260420T145416Z
DESCRIPTION:7pm doors
LOCATION:baker falls (192 Allen St\, New York\, NY 10002)
END:VEVENT
END:VCALENDAR
