BEGIN:VCALENDAR
BEGIN:VEVENT
SUMMARY:Daniel Kleederman (Release Show)\, Lou Tides\, Talk Bazaar [nycnoi
 se]
DTSTART:20250402T230000Z
DTEND:20250403T000000Z
UID:010590ef-56af-44e2-b57b-d215afd951a6
CREATED:20260420T145555Z
DESCRIPTION:
LOCATION:tv eye (1647 Weirfield St\, Ridgewood\, NY 11385)
END:VEVENT
END:VCALENDAR
